BEGIN:VCALENDAR
VERSION:2.0
PRODID:-//pretix//pretix.eu//
BEGIN:VTIMEZONE
TZID:Europe/Berlin
BEGIN:STANDARD
DTSTART:20001029T040000
RRULE:FREQ=YEARLY;BYDAY=-1SU;BYMONTH=10
TZNAME:CET
TZOFFSETFROM:+0200
TZOFFSETTO:+0100
END:STANDARD
BEGIN:DAYLIGHT
DTSTART:20000326T030000
RRULE:FREQ=YEARLY;BYDAY=-1SU;BYMONTH=3
TZNAME:CEST
TZOFFSETFROM:+0100
TZOFFSETTO:+0200
END:DAYLIGHT
END:VTIMEZONE
BEGIN:VEVENT
UID:pretix-badewonne-xd8ge-2416491@tickets.barmstedterbadewonne.de
DTSTART;TZID=Europe/Berlin:20210903T103000
DTEND;TZID=Europe/Berlin:20210903T130000
DESCRIPTION:Tickets: https://tickets.barmstedterbadewonne.de/2416491/\nEinl
 ass: 03.09.2021 10:30\nVeranstalter: Stadtwerke Barmstedt
DTSTAMP:20260420T083328Z
LOCATION:Seestraße 12\, 25355 Barmstedt
SUMMARY:Badebetrieb ohne Animation
END:VEVENT
END:VCALENDAR
